BEGIN:VCALENDAR
VERSION:2.0
PRODID:-//CiviCRM//NONSGML CiviEvent iCal//EN
X-WR-TIMEZONE:Europe/London
METHOD:PUBLISH
BEGIN:VTIMEZONE
TZID:Europe/London
BEGIN:DAYLIGHT
TZOFFSETFROM:+0100
TZOFFSETTO:+0100
TZNAME:BST
DTSTART:20260624T100000
END:DAYLIGHT
END:VTIMEZONE
BEGIN:VEVENT
UID:CiviCRM_EventID_1091_a485739cf401d1e8c18eaece375aefd0@www.alt.ac.uk
SUMMARY:DigAcc26
X-ALT-DESC;FMTTYPE=text/html:<!DOCTYPE HTML PUBLIC
  "-//W3C//DTD HTML 3.2//EN"><html><body><p style="
 line-height:1.2\;margin-top:13px\;"><span style="f
 ont-size:11pt\;font-variant:normal\;white-space:pr
 e-wrap\;"><span style="font-family:'Open Sans'\, s
 ans-serif\;"><span style="color:#000000\;"><span s
 tyle="font-weight:400\;"><span style="font-style:n
 ormal\;"><span style="text-decoration:none\;">Once
  again we will be running the event in a distribut
 ed conference format. A network of local events on
  the day will provide an opportunity for colleague
 s from different institutions to come together to 
 build relationships and to share their experiences
 . This provides an important opportunity for netwo
 rking\, and helps us continue to build and develop
  the community working across the sector to advanc
 e the digital accessibility agenda.</span></span><
 /span></span></span></span></p>\n \n <p style="lin
 e-height:1.2\;margin-top:13px\;"><span style="font
 -size:11pt\;font-variant:normal\;white-space:pre-w
 rap\;"><span style="font-family:'Open Sans'\, sans
 -serif\;"><span style="color:#000000\;"><span styl
 e="font-weight:400\;"><span style="font-style:norm
 al\;"><span style="text-decoration:none\;">The cal
 l for papers is now open. Please consider putting 
 forward a proposal to present at the event.</span>
 </span></span></span></span></span></p>\n \n <p st
 yle="line-height:1.2\;margin-top:13px\;"><span sty
 le="font-size:11pt\;font-variant:normal\;white-spa
 ce:pre-wrap\;"><span style="font-family:'Open Sans
 '\, sans-serif\;"><span style="color:#000000\;"><s
 pan style="font-weight:400\;"><span style="font-st
 yle:normal\;"><span style="text-decoration:none\;"
 >We encourage as many institutions as possible to 
 get involved in running local events on the day. L
 et us know if you are able to run a local event. <
 /span></span></span></span></span></span></p>\n \n
  <p style="line-height:1.2\;margin-top:13px\;"><sp
 an style="font-size:11pt\;font-variant:normal\;whi
 te-space:pre-wrap\;"><span style="font-family:'Ope
 n Sans'\, sans-serif\;"><span style="color:#000000
 \;"><span style="font-weight:400\;"><span style="f
 ont-style:normal\;"><span style="text-decoration:n
 one\;">The conference is completely free of charge
 .</span></span></span></span></span></span></p>\n 
 \n <p style="line-height:1.2\;margin-top:13px\;"><
 span style="font-size:11pt\;font-variant:normal\;w
 hite-space:pre-wrap\;"><span style="font-family:'O
 pen Sans'\, sans-serif\;"><span style="color:#0000
 00\;"><span style="font-weight:400\;"><span style=
 "font-style:normal\;"><span style="text-decoration
 :none\;">Recordings from previous conferences are 
 a fantastic resource: see the previous conference 
 websites for DigAcc23\, DigAcc24\, and DigAcc25.</
 span></span></span></span></span></span></p>\n \n 
 <p style="line-height:1.2\;margin-top:13px\;"><spa
 n style="font-size:11pt\;font-variant:normal\;whit
 e-space:pre-wrap\;"><span style="font-family:'Open
  Sans'\, sans-serif\;"><span style="color:#000000\
 ;"><span style="font-weight:400\;"><span style="fo
 nt-style:normal\;"><span style="text-decoration:no
 ne\;">Registration for the DigAcc26 is now open! S
 ee you on the 24th June. </span></span></span></sp
 an></span></span></p></body></html>
DESCRIPTION:Once again we will be running the event in a distr
 ibuted conference format. A network of local event
 s on the day will provide an opportunity for colle
 agues from different institutions to come together
  to build relationships and to share their experie
 nces. This provides an important opportunity for n
 etworking\, and helps us continue to build and dev
 elop the community working across the sector to ad
 vance the digital accessibility agenda.\n \n \n \n
  The call for papers is now open. Please consider 
 putting forward a proposal to present at the event
 .\n \n \n \n We encourage as many institutions as 
 possible to get involved in running local events o
 n the day. Let us know if you are able to run a lo
 cal event. \n \n \n \n The conference is completel
 y free of charge.\n \n \n \n Recordings from previ
 ous conferences are a fantastic resource: see the 
 previous conference websites for DigAcc23\, DigAcc
 24\, and DigAcc25.\n \n \n \n Registration for the
  DigAcc26 is now open! See you on the 24th June. \
 n \n 
CATEGORIES:Digital Accessibility SIG
CALSCALE:GREGORIAN
DTSTAMP;TZID=Europe/London:20260624T100000
DTSTART;TZID=Europe/London:20260624T100000
DTEND;TZID=Europe/London:20260624T160000
LOCATION:Online\n United Kingdom\n 
URL:https://www.alt.ac.uk/civicrm/event/info?reset=1&id=1091
END:VEVENT
END:VCALENDAR
