BEGIN:VCALENDAR
VERSION:2.0
PRODID:-//CiviCRM//NONSGML CiviEvent iCal//EN
X-WR-TIMEZONE:Europe/London
METHOD:PUBLISH
BEGIN:VTIMEZONE
TZID:Europe/London
BEGIN:DAYLIGHT
TZOFFSETFROM:+0100
TZOFFSETTO:+0100
TZNAME:BST
DTSTART:20260521T120000
END:DAYLIGHT
END:VTIMEZONE
BEGIN:VEVENT
UID:CiviCRM_EventID_1090_a485739cf401d1e8c18eaece375aefd0@www.alt.ac.uk
SUMMARY:WRLT Drop-in: Accessibility
X-ALT-DESC;FMTTYPE=text/html:<!DOCTYPE HTML PUBLIC
  "-//W3C//DTD HTML 3.2//EN"><html><body><p>In hono
 ur of Global Accessibility Day\, this month's chat
  is about all things accessibility and inclusion. 
 Share issues and challenges\, and bring a cup of t
 ea and your own biscuits!</p>\n \n <p>Facilitators
 </p>\n \n <ul>\n 	<li>Christopher Ward\, Huddersfi
 eld University</li>\n 	<li>Will Heathcote\, Univer
 sity of Salford</li>\n </ul>\n \n <p>Join Zoom Mee
 ting<br />\n <a href="https://zoom.us/j/9591832290
 2?pwd=ieM6veMWpuqvtTY0D2DaV57Ji1Ccrq.1">https://zo
 om.us/j/95918322902?pwd=ieM6veMWpuqvtTY0D2DaV57Ji1
 Ccrq.1</a><br />\n Meeting ID: 959 1832 2902<br />
 \n Passcode: 814988</p></body></html>
DESCRIPTION:In honour of Global Accessibility Day\, this month
 's chat is about all things accessibility and incl
 usion. Share issues and challenges\, and bring a c
 up of tea and your own biscuits!\n \n \n \n Facili
 tators\n \n \n \n \n 	Christopher Ward\, Huddersfi
 eld University\n 	Will Heathcote\, University of S
 alford\n \n \n Join Zoom Meeting\n \n https://zoom
 .us/j/95918322902?pwd=ieM6veMWpuqvtTY0D2DaV57Ji1Cc
 rq.1 (https://zoom.us/j/95918322902?pwd=ieM6veMWpu
 qvtTY0D2DaV57Ji1Ccrq.1)\n \n Meeting ID: 959 1832 
 2902\n \n Passcode: 814988\n \n 
CATEGORIES:ALT White Rose
CALSCALE:GREGORIAN
DTSTAMP;TZID=Europe/London:20260521T120000
DTSTART;TZID=Europe/London:20260521T120000
DTEND;TZID=Europe/London:20260521T130000
URL:https://www.alt.ac.uk/civicrm/event/info?reset=1&id=1090
END:VEVENT
END:VCALENDAR
