BEGIN:VCALENDAR
VERSION:2.0
PRODID:-//CiviCRM//NONSGML CiviEvent iCal//EN
X-WR-TIMEZONE:Europe/London
METHOD:PUBLISH
BEGIN:VTIMEZONE
TZID:Europe/London
BEGIN:STANDARD
TZOFFSETFROM:+0000
TZOFFSETTO:+0000
TZNAME:GMT
DTSTART:20261119T130000
END:STANDARD
END:VTIMEZONE
BEGIN:VEVENT
UID:CiviCRM_EventID_1067_a485739cf401d1e8c18eaece375aefd0@www.alt.ac.uk
SUMMARY:ELESIG AGM Meeting
X-ALT-DESC;FMTTYPE=text/html:<!DOCTYPE HTML PUBLIC
  "-//W3C//DTD HTML 3.2//EN"><html><body><p>ALT ELE
 SIG is a community of researchers and practitioner
 s involved in investigations of learners' experien
 ces and uses of technology in learning across all 
 education sectors. ELESIG\, formerly the Evaluatin
 g Learners Experiences of e-learning Special Inter
 est Group\, was established in 2008 to advocate fo
 r the theory and practice of researching learners’
  experience in the context of technology enhanced 
 learning/e-learning. ELESIG became a special inter
 est group of ALT in 2019. Please come along to the
  quarterly committee meeting to find out what's ha
 ppening with the group nationally\, and with the r
 egional groups.</p></body></html>
DESCRIPTION:ALT ELESIG is a community of researchers and pract
 itioners involved in investigations of learners' e
 xperiences and uses of technology in learning acro
 ss all education sectors. ELESIG\, formerly the Ev
 aluating Learners Experiences of e-learning Specia
 l Interest Group\, was established in 2008 to advo
 cate for the theory and practice of researching le
 arners’ experience in the context of technology en
 hanced learning/e-learning. ELESIG became a specia
 l interest group of ALT in 2019. Please come along
  to the quarterly committee meeting to find out wh
 at's happening with the group nationally\, and wit
 h the regional groups.\n \n 
CATEGORIES:ELESIG
CALSCALE:GREGORIAN
DTSTAMP;TZID=Europe/London:20261119T130000
DTSTART;TZID=Europe/London:20261119T130000
DTEND;TZID=Europe/London:20261119T140000
LOCATION:Online\n United Kingdom\n 
URL:https://www.alt.ac.uk/civicrm/event/info?reset=1&id=1067
END:VEVENT
END:VCALENDAR
