BEGIN:VCALENDAR
VERSION:2.0
PRODID:-//CiviCRM//NONSGML CiviEvent iCal//EN
X-WR-TIMEZONE:Europe/London
METHOD:PUBLISH
BEGIN:VTIMEZONE
TZID:Europe/London
BEGIN:STANDARD
TZOFFSETFROM:+0000
TZOFFSETTO:+0000
TZNAME:GMT
DTSTART:20261209T123000
END:STANDARD
END:VTIMEZONE
BEGIN:VEVENT
UID:CiviCRM_EventID_1063_a485739cf401d1e8c18eaece375aefd0@www.alt.ac.uk
SUMMARY:Assembly Online Meeting
X-ALT-DESC;FMTTYPE=text/html:<!DOCTYPE HTML PUBLIC
  "-//W3C//DTD HTML 3.2//EN"><html><body><p style="
 line-height:1.2\;margin-top:16px\;margin-bottom:16
 px\;"><span style="font-size:11pt\;font-variant:no
 rmal\;white-space:pre-wrap\;"><span style="font-fa
 mily:'Open Sans'\, sans-serif\;"><span style="colo
 r:#000000\;"><span style="font-weight:400\;"><span
  style="font-style:normal\;"><span style="text-dec
 oration:none\;">The Assembly is the overarching co
 mmittee advising the</span></span></span></span></
 span></span><a href="https://www.alt.ac.uk/board-t
 rustees" style="text-decoration:none\;"><span styl
 e="font-size:11pt\;font-variant:normal\;white-spac
 e:pre-wrap\;"><span style="font-family:'Open Sans'
 \, sans-serif\;"><span style="color:#000000\;"><sp
 an style="font-weight:400\;"><span style="font-sty
 le:normal\;"><span style="text-decoration:none\;">
  </span></span></span></span></span></span><span s
 tyle="font-size:11pt\;font-variant:normal\;white-s
 pace:pre-wrap\;"><span style="font-family:'Open Sa
 ns'\, sans-serif\;"><span style="color:#1155cc\;">
 <span style="font-weight:400\;"><span style="font-
 style:normal\;"><span style="text-decoration:under
 line\;"><span><span>ALT Board of Trustees</span></
 span></span></span></span></span></span></span></a
 ><span style="font-size:11pt\;font-variant:normal\
 ;white-space:pre-wrap\;"><span style="font-family:
 'Open Sans'\, sans-serif\;"><span style="color:#00
 0000\;"><span style="font-weight:400\;"><span styl
 e="font-style:normal\;"><span style="text-decorati
 on:none\;">. It provides representation of Members
 \, and Members and Special Interest Groups in part
 icular\, and is chaired by the</span></span></span
 ></span></span></span><a href="https://www.alt.ac.
 uk/board-trustees" style="text-decoration:none\;">
 <span style="font-size:11pt\;font-variant:normal\;
 white-space:pre-wrap\;"><span style="font-family:'
 Open Sans'\, sans-serif\;"><span style="color:#000
 000\;"><span style="font-weight:400\;"><span style
 ="font-style:normal\;"><span style="text-decoratio
 n:none\;"> </span></span></span></span></span></sp
 an><span style="font-size:11pt\;font-variant:norma
 l\;white-space:pre-wrap\;"><span style="font-famil
 y:'Open Sans'\, sans-serif\;"><span style="color:#
 1155cc\;"><span style="font-weight:400\;"><span st
 yle="font-style:normal\;"><span style="text-decora
 tion:underline\;"><span><span>President of ALT</sp
 an></span></span></span></span></span></span></spa
 n></a><span style="font-size:11pt\;font-variant:no
 rmal\;white-space:pre-wrap\;"><span style="font-fa
 mily:'Open Sans'\, sans-serif\;"><span style="colo
 r:#000000\;"><span style="font-weight:400\;"><span
  style="font-style:normal\;"><span style="text-dec
 oration:none\;">.  The Assembly meets regularly on
 line\, and meetings are open to all Members of ALT
 . Members are encouraged to attend\, contribute to
  discussions and share updates.</span></span></spa
 n></span></span></span><a href="https://www.alt.ac
 .uk/alt-assembly" style="text-decoration:none\;"><
 span style="font-size:11pt\;font-variant:normal\;w
 hite-space:pre-wrap\;"><span style="font-family:'O
 pen Sans'\, sans-serif\;"><span style="color:#0000
 00\;"><span style="font-weight:400\;"><span style=
 "font-style:normal\;"><span style="text-decoration
 :none\;"> </span></span></span></span></span></spa
 n><span style="font-size:11pt\;font-variant:normal
 \;white-space:pre-wrap\;"><span style="font-family
 :'Open Sans'\, sans-serif\;"><span style="color:#1
 155cc\;"><span style="font-weight:400\;"><span sty
 le="font-style:normal\;"><span style="text-decorat
 ion:underline\;"><span><span>Learn more about the 
 assembly.</span></span></span></span></span></span
 ></span></span></a></p>\n \n <p style="line-height
 :1.44\;margin-top:16px\;margin-bottom:13px\;"><br 
 />\n <span style="font-size:11pt\;font-variant:nor
 mal\;white-space:pre-wrap\;"><span style="font-fam
 ily:'Open Sans'\, sans-serif\;"><span style="color
 :#000000\;"><span style="font-weight:400\;"><span 
 style="font-style:normal\;"><span style="text-deco
 ration:none\;">ALT Assembly </span></span></span><
 /span></span></span><a href="https://drive.google.
 com/file/d/16VNo33nM14E8R9wSgUKilkw15wqQtx16/view"
  style="text-decoration:none\;"><span style="font-
 size:11pt\;font-variant:normal\;white-space:pre-wr
 ap\;"><span style="font-family:'Open Sans'\, sans-
 serif\;"><span style="color:#1155cc\;"><span style
 ="font-weight:400\;"><span style="font-style:norma
 l\;"><span style="text-decoration:underline\;"><sp
 an><span>Terms of Reference (2020)</span></span></
 span></span></span></span></span></span></a></p>\n
  \n <p style="line-height:1.2\;margin-top:16px\;ma
 rgin-bottom:16px\;"><span style="font-size:11pt\;f
 ont-variant:normal\;white-space:pre-wrap\;"><span 
 style="font-family:'Open Sans'\, sans-serif\;"><sp
 an style="color:#000000\;"><span style="font-weigh
 t:400\;"><span style="font-style:normal\;"><span s
 tyle="text-decoration:none\;">The meeting will run
  in Zoom. If you have not used Zoom before\, it ma
 y be helpful to consult our webinar FAQs at </span
 ></span></span></span></span></span><a href="https
 ://www.alt.ac.uk/events/webinar-faqs" style="text-
 decoration:none\;"><span style="font-size:11pt\;fo
 nt-variant:normal\;white-space:pre-wrap\;"><span s
 tyle="font-family:'Open Sans'\, sans-serif\;"><spa
 n style="color:#1155cc\;"><span style="font-weight
 :400\;"><span style="font-style:normal\;"><span st
 yle="text-decoration:underline\;"><span><span>http
 s://www.alt.ac.uk/events/webinar-faqs</span></span
 ></span></span></span></span></span></span></a><sp
 an style="font-size:11pt\;font-variant:normal\;whi
 te-space:pre-wrap\;"><span style="font-family:'Ope
 n Sans'\, sans-serif\;"><span style="color:#000000
 \;"><span style="font-weight:400\;"><span style="f
 ont-style:normal\;"><span style="text-decoration:n
 one\;">. </span></span></span></span></span></span
 ></p>\n \n <p style="line-height:1.2\;margin-top:1
 6px\;margin-bottom:16px\;"><span style="font-size:
 11pt\;font-variant:normal\;white-space:pre-wrap\;"
 ><span style="font-family:'Open Sans'\, sans-serif
 \;"><span style="color:#000000\;"><span style="fon
 t-weight:400\;"><span style="font-style:normal\;">
 <span style="text-decoration:none\;">If you have a
 ny specific questions about the ALT Assembly\, ple
 ase contact </span></span></span></span></span></s
 pan><span style="font-size:11pt\;font-variant:norm
 al\;white-space:pre-wrap\;"><span style="font-fami
 ly:'Open Sans'\, sans-serif\;"><span style="color:
 #000000\;"><span style="font-weight:700\;"><span s
 tyle="font-style:normal\;"><span style="text-decor
 ation:none\;">enquiries@alt.ac.uk</span></span></s
 pan></span></span></span></p>\n \n <p> </p></body>
 </html>
DESCRIPTION:The Assembly is the overarching committee advising
  the ALT Board of Trustees. It provides representa
 tion of Members\, and Members and Special Interest
  Groups in particular\, and is chaired by the Pres
 ident of ALT.  The Assembly meets regularly online
 \, and meetings are open to all Members of ALT. Me
 mbers are encouraged to attend\, contribute to dis
 cussions and share updates. Learn more about the a
 ssembly.\n \n \n \n \n \n ALT Assembly Terms of Re
 ference (2020)\n \n \n \n The meeting will run in 
 Zoom. If you have not used Zoom before\, it may be
  helpful to consult our webinar FAQs at https://ww
 w.alt.ac.uk/events/webinar-faqs. \n \n \n \n If yo
 u have any specific questions about the ALT Assemb
 ly\, please contact enquiries@alt.ac.uk\n \n \n \n
   \n \n 
CATEGORIES:Assembly
CALSCALE:GREGORIAN
DTSTAMP;TZID=Europe/London:20261209T123000
DTSTART;TZID=Europe/London:20261209T123000
DTEND;TZID=Europe/London:20261209T133000
LOCATION:Online\n United Kingdom\n 
URL:https://www.alt.ac.uk/civicrm/event/info?reset=1&id=1063
END:VEVENT
END:VCALENDAR
